BEGIN:VCALENDAR
VERSION:2.0
PRODID:-//Plone.org//NONSGML plone.app.event//EN
X-WR-TIMEZONE:Europe/Berlin
BEGIN:VEVENT
SUMMARY:Project kickoff
DTSTART;VALUE=DATE:20240108
DTEND;VALUE=DATE:20240113
DTSTAMP;VALUE=DATE-TIME:20260425T172620Z
UID:8e53f828093b44b6bec2d0b74727c857@localhost:8085
CREATED;VALUE=DATE-TIME:20231128T100255Z
LAST-MODIFIED;VALUE=DATE-TIME:20231201T124352Z
LOCATION:Stockholm
URL:https://reformit.org/events/project-kickoff
END:VEVENT
END:VCALENDAR
